{"text_format":"3","workbook":"xlsx","n_sheets":3,"sheets":["1 неделя","2 неделя","Лист3 (2)"],"not_rendered":{"defined_names":1},"read":"whole","date_system":"1900"}

{"sheet":"1 неделя","index":0,"n_rows":130,"n_cols":4,"rows_kept":130}
["1 неделя","Выход, гр","Цена, 1 кг","Цена в блюде"]
["Понедельник"]
["Салат из свежей капусты",60]
["Капуста свежая",60,25,{"$f":"C4/1000*B4","v":1.5}]
["Морковь свежая",{"v":7.98,"d":"8"},35,{"$f":"C5/1000*B5","v":0.27930000000000005}]
["Сахарный песок",3,80,0.24]
["Соль",0.3,16,0.0048]
["Масло растительное  ",3,140,0.42000000000000004]
["Котлеты",80]
["Говядина (котлетное мясо)",72,440,{"$f":"C10/1000*B10","v":31.68}]
["Хлеб пшенинчый ",9,60,0.54]
["Молоко",12,65,0.78]
["Сухари панировочные",5,100,0.5]
["Масло растительное",3,140,0.42000000000000004]
["Масло сливочное",5,800,4]
["Соль",1,16,0.016]
["Каша вязска гречневая","150/5"]
["Гречка",150,100,15]
["Масло сливочное",5,800,4]
["Соль",1,16,0.016]
["Какао с молоком",200]
["Какао порошок",4,271,1.084]
["Сахар",20,80,1.6]
["Молоко",100,65,6.5]
["Пряник",50,180,9]
["Хлеб пшеничный",30,60,1.7999999999999998]
["Хлеб ржано-пшеничный",20,51,1.02]
["Стоимость понедельник",null,null,{"$f":"SUM(D4:D27)","v":80.4001}]
["Вторник"]
["Фрукты (яблоки)",100]
["Яблоки",100,100,{"$f":"C31/1000*B31","v":10}]
["Рагу из птицы","50/150"]
["Курица",{"v":100,"d":"100.00"},270,{"$f":"C33/1000*B33","v":27}]
["Картофель свежий ",{"v":178,"d":"178.00"},25,4.45]
["Лук репчатый",{"v":11.9,"d":"11.90"},30,0.357]
["Томатная паста",{"v":2,"d":"2.00"},175,0.35]
["Масло растительное  ",{"v":4,"d":"4.00"},140,0.56]
["Соль",{"v":2,"d":"2.00"},16,0.032]
["Морковь свежая",{"v":13.3,"d":"13.30"},35,0.4655000000000001]
["Кофейный напиток с молоком",200]
["Кофейный напиток",5,500,2.5]
["Сахар",20,80,1.6]
["Молоко",100,65,6.5]
["Вода",120]
["Хлеб пшеничный",30,60,1.7999999999999998]
["Хлеб ржано-пшеничный",20,51,1.02]
["Стоимость вторник",null,null,{"$f":"SUM(D31:D46)","v":56.6345}]
["Среда"]
["Гуляш из говядины","50/50"]
["Говядина (лопаточный отруб)",{"v":81,"d":"81.00"},440,{"$f":"C50/1000*B50","v":35.64}]
["Масло растительное  ",{"v":5,"d":"5.00"},140,0.7000000000000001]
["Лук репчатый",{"v":11.9,"d":"11.90"},30,0.357]
["Томатная паста",{"v":3.2,"d":"3.20"},175,0.5599999999999999]
["Мука пшеничная",{"v":2,"d":"2.00"},40,0.08]
["Соль",{"v":1,"d":"1.00"},16,0.016]
["Лавровый лист",0.01,960,0.0096]
["Макаронные изделия отварные ",150]
["Макаронные изделия",53,50,2.6500000000000004]
["Масло сливочное",5,800,4]
["Соль",1,16,0.016]
["Чай с сахаром","200/15"]
["Чай",1,688,0.688]
["Сахар",15,80,1.2]
["Вода",150,null,0]
["Хлеб пшеничный",30,60,1.7999999999999998]
["Хлеб ржано-пшеничный",20,51,1.02]
["Стоимость среда",null,null,{"$f":"SUM(D49:D66)","v":48.7366}]
["Четверг"]
["Салат из моркови",60]
["Морковь свежая",65,35,{"$f":"C70/1000*B70","v":2.2750000000000004}]
["Масло растительное  ",6,140,0.8400000000000001]
["Сахарный песок",6,80,0.48]
["Котлеты рыбные",80]
["Котлеты из судака (трески) п/ф",100,325,32.5]
["Пюре картофельное",150]
["Картофель",170,25,4.25]
["Молоко",24,65,1.56]
["Масло сливочное",5,800,4]
["Соль",1,16,0.016]
["Какао с молоком",200]
["Какао порошок",4,271,1.084]
["Сахар",20,80,1.6]
["Молоко",100,65,6.5]
["Хлеб пшеничный",30,60,1.7999999999999998]
["Хлеб ржано-пшеничный",20,51,1.02]
["Стоимость четверг",null,null,{"$f":"SUM(D69:D85)","v":57.925000000000004}]
["Пятница"]
["Фрукты (яблоки)",100]
["Яблоки",100,100,{"$f":"C89/1000*B89","v":10}]
["Котлеты рубленные из птицы",80]
["Курица",130,270,{"$f":"C91/1000*B91","v":35.1}]
["Хлеб пшеничный",13,60,0.78]
["Молоко",19,65,1.235]
["Сухари",5,100,0.5]
["Масло ратистельное",3,140,0.42000000000000004]
["Масло сливочное",5,800,4]
["Соль",1,16,0.016]
["Рис отварной",150]
["Рис",55,90,4.95]
["Масло сливочное",7,800,5.6000000000000005]
["Соль",1,16,0.016]
["Чай с лимоном","200/15/7"]
["Чай",1,688,0.688]
["Сахар",15,80,1.2]
["Лимон",8,170,1.36]
["Хлеб пшеничный",30,60,1.7999999999999998]
["Хлеб ржано-пшеничный",20,51,1.02]
["Стоимость пятница",null,null,{"$f":"SUM(D89:D107)","v":68.685}]
["Суббота"]
["Фрукты ",100]
["Апельсин",100,150,{"$f":"C111/1000*B111","v":15}]
["Говядина тушеная","60/30"]
["Говядина",83,440,{"$f":"C113/1000*B113","v":36.52}]
["Морковь свежая",5,35,0.17500000000000002]
["Лук",5,30,0.15]
["Масло растительное",5,140,0.7000000000000001]
["Томатная паста",7,175,1.2249999999999999]
["Мука пшеничная",2,40,0.08]
["Соль",1,16,0.016]
["Макаронные изделия отварные ",150]
["Макаронные изделия",53,50,{"$f":"C121/1000*B121","v":2.6500000000000004}]
["Масло сливочное",5,800,4]
["Соль",1,16,0.016]
["Чай с сахаром","200/15"]
["Чай",1,688,0.688]
["Сахар",15,80,1.2]
["Вода",150,null,0]
["Хлеб пшеничный",30,60,1.7999999999999998]
["Хлеб ржано-пшеничный",20,51,1.02]
["Стоимость суббота",null,null,{"$f":"SUM(D111:D129)","v":65.24}]

{"sheet":"2 неделя","index":1,"n_rows":110,"n_cols":6,"rows_kept":110}
["2 неделя","Выход, гр","Цена, 1 кг","Цена в блюде"]
["Понедельник"]
["Фрукты ",100]
["Апельсин",100,150,{"$f":"C4/1000*B4","v":15}]
["Сосиски",100,null,0]
["Сосиски Говяжьи",102,380,{"$f":"C6/1000*B6","v":38.76}]
["Каша рассыпчатая (гречневая)",150]
["Гречка",71,100,7.1000000000000005]
["Соль",1,16,0.016]
["Какао с молоком",200,null,0]
["Какао порошок",4,271,1.084]
["Сахар",20,80,1.6]
["Молоко",100,65,6.5]
["Вода",110,null,0]
["Хлеб пшеничный",30,60,1.7999999999999998]
["Хлеб ржано-пшеничный",20,51,1.02]
["Стоимость понедельник",null,null,{"$f":"SUM(D4:D16)","v":72.88}]
["Вторник"]
["Плов из птицы","50/150"]
["Курица",90,270,{"$f":"C20/1000*B20","v":24.3}]
["Масло растительное",7,140,0.9800000000000001]
["Лук репчатый",8,30,0.24]
["Морковь",10,35,0.35000000000000003]
["Томатная паста",5,175,0.875]
["Рис",35,90,3.15]
["Соль",1,16,0.016]
["Чай с лимоном","200/15/7"]
["Чай",1,688,0.688]
["Сахар",15,80,1.2]
["Лимон",8,170,1.36]
["Вода",150,null,0]
["Хлеб пшеничный",30,60,1.7999999999999998]
["Хлеб ржано-пшеничный",20,51,1.02]
["Стоимость вторник",null,null,{"$f":"SUM(D19:D33)","v":35.979}]
["Среда"]
["Салат из белокачанной капусты",60]
["Капуста свежая",60,25,{"$f":"C37/1000*B37","v":1.5}]
["Морковь свежая",{"v":7.98,"d":"8"},35,{"$f":"C38/1000*B38","v":0.27930000000000005}]
["Сахарный песок",3,80,0.24]
["Соль",0.3,16,0.0048]
["Масло растительное  ",3,140,0.42000000000000004]
["Котлеты рыбные",80]
["Котеты из судака (трески) п/ф",100,325,32.5]
["Пюре картофельное",150]
["Картофель",170,25,4.25]
["Молоко",24,65,1.56]
["Масло сливочное",5,800,4]
["Соль",1,16,0.016]
["Чай с сахаром","200/15"]
["Чай",1,688,0.688]
["Сахар",15,80,1.2]
["Хлеб пшеничный",30,60,1.7999999999999998]
["Хлеб ржано-пшеничный",20,51,1.02]
["Стоимость среда",null,null,{"$f":"SUM(D37:D53)","v":49.478100000000005}]
["Четверг"]
["Салат из моркови",60]
["Морковь свежая",65,35,{"$f":"C57/1000*B57","v":2.2750000000000004}]
["Масло растительное  ",6,140,{"$f":"C58/1000*B58","v":0.8400000000000001}]
["Сахарный песок",6,80,0.48]
["Птица тушеная в соусе","50/50"]
["Курица",100,270,{"$f":"C61/1000*B61","v":27}]
["Масло растительное",2,140,0.28]
["Сметана",12.5,190,2.375]
["Мука пшеничная",4,40,0.16]
["Макаронные изделия отварные с маслом","150/5"]
["Макаронные изделия",53,50,2.6500000000000004]
["Масло сливочное",5,800,4]
["Соль",1,16,0.016]
["Кофейный напиток с молоком",200]
["Кофейный напиток",5,500,2.5]
["Сахар",20,80,1.6]
["Молоко",100,65,6.5]
["Хлеб пшеничный",30,60,1.7999999999999998]
["Хлеб ржано-пшеничный",20,51,1.02]
["Стоимость четверг",null,null,{"$f":"SUM(D57:D74)","v":53.495999999999995}]
["Пятница"]
["Фрукты (бананы)",150]
["Бананы",150,170,{"$f":"C78/1000*B78","v":25.500000000000004}]
["Запеканта картофельная с мясом",180]
["Говядина (котлетное мясо)",63,440,{"$f":"C80/1000*B80","v":27.72}]
["Масло растительное",5,140,0.7000000000000001]
["Масло сливочное",11,800,8.8]
["Сухари панировочные",3,100,0.30000000000000004]
["Лук репчатый",15,30,0.44999999999999996]
["Картофель",230,25,5.75]
["Соль",1,16,0.016]
["Чай с лимоном","200/15/7"]
["Чай",1,688,0.688]
["Сахар",15,80,1.2]
["Лимон",8,170,1.36]
["Масло сливочное",10,800,8]
["Сыр",10,600,6]
["Хлеб пшеничный",30,60,1.7999999999999998]
["Хлеб ржано-пшеничный",20,51,1.02]
["Стоимость пятница",null,null,{"$f":"SUM(D78:D94)","v":89.304}]
["Суббота"]
["Запеканка рисовая с творогом",80]
["Творог",20,310,{"$f":"C98/1000*B98","v":6.2}]
["Сахар",7.5,80,0.6]
["Масло сливочное ",10,800,8]
["Яйцо",0.2,10,2E-3]
["Рис",24,90,2.16]
["Сметана",5,190,0.95]
["Чай с сахаром","200/15"]
["Чай",1,688,0.688]
["Сахар",15,80,1.2]
["Хлеб пшеничный",30,60,1.7999999999999998]
["Хлеб ржано-пшеничный",20,51,1.02]
["Стоимость суббота",null,null,{"$f":"SUM(D97:D108)","v":22.62}]
["Итого за 2 недели",null,null,{"$f":"'1 неделя'!D28+'1 неделя'!D47+'1 неделя'!D67+'1 неделя'!D86+'1 неделя'!D108+'1 неделя'!D130+'2 неделя'!D17+'2 неделя'!D34+'2 неделя'!D54+'2 неделя'!D75+'2 неделя'!D95+'2 неделя'!D109","v":701.3783},590.4,"контрольная цифра за 2 недели при стоимости 49,2 за 1 детодень "]

{"sheet":"Лист3 (2)","index":2,"n_rows":38,"n_cols":39,"rows_kept":38}
[]
["Наименование","Количество продуктов сентябрь 2024","Цена поставки","Зверосовхозская СОШ","Красногорская СОШ","СОШ № 1","СОШ № 3","СОШ № 4","Лицей № 2","Лицей № 2 новый","Малокирменская ООШ","Среднекирменская СОШ","Усалинская СОШ","Владимировская ООШ","Никифоровская ООШ","Большешиинская СОШ","Кемешкульская ООШ","Кляушская СОШ","Куюк-Ерыксинская СОШ","Таканышская СОШ","Албайская ООШ","Дюсьметьевская СОШ","Шемяковская ООШ","Малосуньская ООШ","Омарская СОШ","Зюринская СОШ","Нижнеошминская СОШ","Сокольская СОШ","Верхнеошминская ООШ","Верхнесуньская ООШ","Гришкинская ООШ","Олуязский лицей","Катмышская СОШ","Нижнесуньская СОШ","Нижнеякинская СОШ","Шадчинская СОШ","Пятилетская НШДС","Пристань Берсут ООШ","Тавельская СОШ"]
["Яблоко",{"$f":"'1 неделя'!F31+'1 неделя'!F89","v":{"v":0,"d":"0.0"}},{"v":100,"d":"100.0"},{"$f":"B3/1469*38","v":{"v":0,"d":"0.00"}},{"$f":"B3/1469*140","v":{"v":0,"d":"0.00"}},{"$f":"B3/1469*229","v":{"v":0,"d":"0.00"}},{"$f":"B3/1469*189","v":{"v":0,"d":"0.00"}},{"$f":"B3/1469*180","v":{"v":0,"d":"0.00"}},{"$f":"B3/1469*267","v":{"v":0,"d":"0.00"}},{"$f":"B3/1469*162","v":{"v":0,"d":"0.00"}},{"$f":"B3/1469*1","v":{"v":0,"d":"0.00"}},{"$f":"B3/1469*3","v":{"v":0,"d":"0.00"}},{"$f":"B3/1469*9","v":{"v":0,"d":"0.00"}},{"$f":"B3/1469*1","v":{"v":0,"d":"0.00"}},{"$f":"B3/1469*3","v":{"v":0,"d":"0.00"}},{"$f":"B3/1469*8","v":{"v":0,"d":"0.00"}},{"$f":"B3/1469*10","v":{"v":0,"d":"0.00"}},{"$f":"B3/1469*8","v":{"v":0,"d":"0.00"}},{"$f":"B3/1469*8","v":{"v":0,"d":"0.00"}},{"$f":"B3/1469*26","v":{"v":0,"d":"0.00"}},{"$f":"B3/1469*4","v":{"v":0,"d":"0.00"}},{"$f":"B3/1469*7","v":{"v":0,"d":"0.00"}},{"$f":"B3/1469*6","v":{"v":0,"d":"0.00"}},{"$f":"B3/1469*2","v":{"v":0,"d":"0.00"}},{"$f":"B3/1469*9","v":{"v":0,"d":"0.00"}},{"$f":"B3/1469*7","v":{"v":0,"d":"0.00"}},{"$f":"B3/1469*41","v":{"v":0,"d":"0.00"}},{"$f":"B3/1469*8","v":{"v":0,"d":"0.00"}},{"$f":"B3/1469*3","v":{"v":0,"d":"0.00"}},{"$f":"B3/1469*3","v":{"v":0,"d":"0.00"}},{"$f":"B3/1469*1","v":{"v":0,"d":"0.00"}},{"$f":"B3/1469*24","v":{"v":0,"d":"0.00"}},{"$f":"B3/1469*7","v":{"v":0,"d":"0.00"}},{"$f":"B3/1469*18","v":{"v":0,"d":"0.00"}},{"$f":"B3/1469*5","v":{"v":0,"d":"0.00"}},{"$f":"B3/1469*14","v":{"v":0,"d":"0.00"}},{"$f":"B3/1469*5","v":{"v":0,"d":"0.00"}},{"$f":"B3/1469*8","v":{"v":0,"d":"0.0"}},{"$f":"B3/1469*15","v":{"v":0,"d":"0.0"}}]
["Груша",{"$f":"'1 неделя'!#REF!","v":{"$error":"#REF!"}},{"v":220,"d":"220.0"},{"$f":"B4/1469*38","v":{"$error":"#REF!"}},{"$f":"B4/1469*140","v":{"$error":"#REF!"}},{"$f":"B4/1469*229","v":{"$error":"#REF!"}},{"$f":"B4/1469*189","v":{"$error":"#REF!"}},{"$f":"B4/1469*180","v":{"$error":"#REF!"}},{"$f":"B4/1469*267","v":{"$error":"#REF!"}},{"$f":"B4/1469*162","v":{"$error":"#REF!"}},{"$f":"B4/1469*1","v":{"$error":"#REF!"}},{"$f":"B4/1469*3","v":{"$error":"#REF!"}},{"$f":"B4/1469*9","v":{"$error":"#REF!"}},{"$f":"B4/1469*1","v":{"$error":"#REF!"}},{"$f":"B4/1469*3","v":{"$error":"#REF!"}},{"$f":"B4/1469*8","v":{"$error":"#REF!"}},{"$f":"B4/1469*10","v":{"$error":"#REF!"}},{"$f":"B4/1469*8","v":{"$error":"#REF!"}},{"$f":"B4/1469*8","v":{"$error":"#REF!"}},{"$f":"B4/1469*26","v":{"$error":"#REF!"}},{"$f":"B4/1469*4","v":{"$error":"#REF!"}},{"$f":"B4/1469*7","v":{"$error":"#REF!"}},{"$f":"B4/1469*6","v":{"$error":"#REF!"}},{"$f":"B4/1469*2","v":{"$error":"#REF!"}},{"$f":"B4/1469*9","v":{"$error":"#REF!"}},{"$f":"B4/1469*7","v":{"$error":"#REF!"}},{"$f":"B4/1469*41","v":{"$error":"#REF!"}},{"$f":"B4/1469*8","v":{"$error":"#REF!"}},{"$f":"B4/1469*3","v":{"$error":"#REF!"}},{"$f":"B4/1469*3","v":{"$error":"#REF!"}},{"$f":"B4/1469*1","v":{"$error":"#REF!"}},{"$f":"B4/1469*24","v":{"$error":"#REF!"}},{"$f":"B4/1469*7","v":{"$error":"#REF!"}},{"$f":"B4/1469*18","v":{"$error":"#REF!"}},{"$f":"B4/1469*5","v":{"$error":"#REF!"}},{"$f":"B4/1469*14","v":{"$error":"#REF!"}},{"$f":"B4/1469*5","v":{"$error":"#REF!"}},{"$f":"B4/1469*8","v":{"$error":"#REF!"}},{"$f":"B4/1469*15","v":{"$error":"#REF!"}}]
["Апельсин",{"$f":"'1 неделя'!F111+'2 неделя'!F4","v":{"v":0,"d":"0.0"}},{"v":150,"d":"150.0"},{"v":0,"d":"0.00"},{"v":0,"d":"0.00"},{"v":0,"d":"0.00"},{"v":0,"d":"0.00"},{"v":0,"d":"0.00"},{"v":0,"d":"0.00"},{"v":0,"d":"0.00"},{"v":0,"d":"0.00"},{"v":0,"d":"0.00"},{"v":0,"d":"0.00"},{"v":0,"d":"0.00"},{"v":0,"d":"0.00"},{"v":0,"d":"0.00"},{"v":0,"d":"0.00"},{"v":0,"d":"0.00"},{"v":0,"d":"0.00"},{"v":0,"d":"0.00"},{"v":0,"d":"0.00"},{"v":0,"d":"0.00"},{"v":0,"d":"0.00"},{"v":0,"d":"0.00"},{"v":0,"d":"0.00"},{"v":0,"d":"0.00"},{"v":0,"d":"0.00"},{"v":0,"d":"0.00"},{"v":0,"d":"0.00"},{"v":0,"d":"0.00"},{"v":0,"d":"0.00"},{"v":0,"d":"0.00"},{"v":0,"d":"0.00"},{"v":0,"d":"0.00"},{"v":0,"d":"0.00"},{"v":0,"d":"0.00"},{"v":0,"d":"0.00"},{"v":0,"d":"0.0"},{"v":0,"d":"0.0"}]
["Банан",{"$f":"'2 неделя'!F78","v":{"v":0,"d":"0.0"}},{"v":170,"d":"170.0"},{"v":0,"d":"0.00"},{"v":0,"d":"0.00"},{"v":0,"d":"0.00"},{"v":0,"d":"0.00"},{"v":0,"d":"0.00"},{"v":0,"d":"0.00"},{"v":0,"d":"0.00"},{"v":0,"d":"0.00"},{"v":0,"d":"0.00"},{"v":0,"d":"0.00"},{"v":0,"d":"0.00"},{"v":0,"d":"0.00"},{"v":0,"d":"0.00"},{"v":0,"d":"0.00"},{"v":0,"d":"0.00"},{"v":0,"d":"0.00"},{"v":0,"d":"0.00"},{"v":0,"d":"0.00"},{"v":0,"d":"0.00"},{"v":0,"d":"0.00"},{"v":0,"d":"0.00"},{"v":0,"d":"0.00"},{"v":0,"d":"0.00"},{"v":0,"d":"0.00"},{"v":0,"d":"0.00"},{"v":0,"d":"0.00"},{"v":0,"d":"0.00"},{"v":0,"d":"0.00"},{"v":0,"d":"0.00"},{"v":0,"d":"0.00"},{"v":0,"d":"0.00"},{"v":0,"d":"0.00"},{"v":0,"d":"0.00"},{"v":0,"d":"0.00"},{"v":0,"d":"0.0"},{"v":0,"d":"0.0"}]
["Лимон",{"$f":"'1 неделя'!F105+'2 неделя'!F30+'2 неделя'!F90","v":{"v":0,"d":"0.0"}},{"v":170,"d":"170.0"},{"v":0,"d":"0.00"},{"v":0,"d":"0.00"},{"v":0,"d":"0.00"},{"v":0,"d":"0.00"},{"v":0,"d":"0.00"},{"v":0,"d":"0.00"},{"v":0,"d":"0.00"},{"v":0,"d":"0.00"},{"v":0,"d":"0.00"},{"v":0,"d":"0.00"},{"v":0,"d":"0.00"},{"v":0,"d":"0.00"},{"v":0,"d":"0.00"},{"v":0,"d":"0.00"},{"v":0,"d":"0.00"},{"v":0,"d":"0.00"},{"v":0,"d":"0.00"},{"v":0,"d":"0.00"},{"v":0,"d":"0.00"},{"v":0,"d":"0.00"},{"v":0,"d":"0.00"},{"v":0,"d":"0.00"},{"v":0,"d":"0.00"},{"v":0,"d":"0.00"},{"v":0,"d":"0.00"},{"v":0,"d":"0.00"},{"v":0,"d":"0.00"},{"v":0,"d":"0.00"},{"v":0,"d":"0.00"},{"v":0,"d":"0.00"},{"v":0,"d":"0.00"},{"v":0,"d":"0.00"},{"v":0,"d":"0.00"},{"v":0,"d":"0.00"},{"v":0,"d":"0.0"},{"v":0,"d":"0.0"}]
["Морковь",{"$f":"'1 неделя'!F39+'1 неделя'!#REF!+'1 неделя'!F70+'2 неделя'!F23+'2 неделя'!F38+'2 неделя'!F57+'1 неделя'!F114","v":{"$error":"#REF!"}},{"v":35,"d":"35.0"},{"$error":"#REF!"},{"$error":"#REF!"},{"$error":"#REF!"},{"$error":"#REF!"},{"$error":"#REF!"},{"$error":"#REF!"},{"$error":"#REF!"},{"$error":"#REF!"},{"$error":"#REF!"},{"$error":"#REF!"},{"$error":"#REF!"},{"$error":"#REF!"},{"$error":"#REF!"},{"$error":"#REF!"},{"$error":"#REF!"},{"$error":"#REF!"},{"$error":"#REF!"},{"$error":"#REF!"},{"$error":"#REF!"},{"$error":"#REF!"},{"$error":"#REF!"},{"$error":"#REF!"},{"$error":"#REF!"},{"$error":"#REF!"},{"$error":"#REF!"},{"$error":"#REF!"},{"$error":"#REF!"},{"$error":"#REF!"},{"$error":"#REF!"},{"$error":"#REF!"},{"$error":"#REF!"},{"$error":"#REF!"},{"$error":"#REF!"},{"$error":"#REF!"},{"$error":"#REF!"},{"$error":"#REF!"}]
["Картофель",{"$f":"'1 неделя'!F34+'1 неделя'!F76+'2 неделя'!F45+'2 неделя'!F85","v":{"v":0,"d":"0.0"}},{"v":25,"d":"25.0"},{"v":0,"d":"0.00"},{"v":0,"d":"0.00"},{"v":0,"d":"0.00"},{"v":0,"d":"0.00"},{"v":0,"d":"0.00"},{"v":0,"d":"0.00"},{"v":0,"d":"0.00"},{"v":0,"d":"0.00"},{"v":0,"d":"0.00"},{"v":0,"d":"0.00"},{"v":0,"d":"0.00"},{"v":0,"d":"0.00"},{"v":0,"d":"0.00"},{"v":0,"d":"0.00"},{"v":0,"d":"0.00"},{"v":0,"d":"0.00"},{"v":0,"d":"0.00"},{"v":0,"d":"0.00"},{"v":0,"d":"0.00"},{"v":0,"d":"0.00"},{"v":0,"d":"0.00"},{"v":0,"d":"0.00"},{"v":0,"d":"0.00"},{"v":0,"d":"0.00"},{"v":0,"d":"0.00"},{"v":0,"d":"0.00"},{"v":0,"d":"0.00"},{"v":0,"d":"0.00"},{"v":0,"d":"0.00"},{"v":0,"d":"0.00"},{"v":0,"d":"0.00"},{"v":0,"d":"0.00"},{"v":0,"d":"0.00"},{"v":0,"d":"0.00"},{"v":0,"d":"0.0"},{"v":0,"d":"0.0"}]
["Лук",{"$f":"'1 неделя'!F35+'1 неделя'!F52+'2 неделя'!F22+'2 неделя'!F84+'1 неделя'!F115","v":{"v":0,"d":"0.0"}},{"v":30,"d":"30.0"},{"v":0,"d":"0.00"},{"v":0,"d":"0.00"},{"v":0,"d":"0.00"},{"v":0,"d":"0.00"},{"v":0,"d":"0.00"},{"v":0,"d":"0.00"},{"v":0,"d":"0.00"},{"v":0,"d":"0.00"},{"v":0,"d":"0.00"},{"v":0,"d":"0.00"},{"v":0,"d":"0.00"},{"v":0,"d":"0.00"},{"v":0,"d":"0.00"},{"v":0,"d":"0.00"},{"v":0,"d":"0.00"},{"v":0,"d":"0.00"},{"v":0,"d":"0.00"},{"v":0,"d":"0.00"},{"v":0,"d":"0.00"},{"v":0,"d":"0.00"},{"v":0,"d":"0.00"},{"v":0,"d":"0.00"},{"v":0,"d":"0.00"},{"v":0,"d":"0.00"},{"v":0,"d":"0.00"},{"v":0,"d":"0.00"},{"v":0,"d":"0.00"},{"v":0,"d":"0.00"},{"v":0,"d":"0.00"},{"v":0,"d":"0.00"},{"v":0,"d":"0.00"},{"v":0,"d":"0.00"},{"v":0,"d":"0.00"},{"v":0,"d":"0.00"},{"v":0,"d":"0.0"},{"v":0,"d":"0.0"}]
["Свекла",{"$f":"'2 неделя'!#REF!","v":{"$error":"#REF!"}},{"v":20,"d":"20.0"},{"$error":"#REF!"},{"$error":"#REF!"},{"$error":"#REF!"},{"$error":"#REF!"},{"$error":"#REF!"},{"$error":"#REF!"},{"$error":"#REF!"},{"$error":"#REF!"},{"$error":"#REF!"},{"$error":"#REF!"},{"$error":"#REF!"},{"$error":"#REF!"},{"$error":"#REF!"},{"$error":"#REF!"},{"$error":"#REF!"},{"$error":"#REF!"},{"$error":"#REF!"},{"$error":"#REF!"},{"$error":"#REF!"},{"$error":"#REF!"},{"$error":"#REF!"},{"$error":"#REF!"},{"$error":"#REF!"},{"$error":"#REF!"},{"$error":"#REF!"},{"$error":"#REF!"},{"$error":"#REF!"},{"$error":"#REF!"},{"$error":"#REF!"},{"$error":"#REF!"},{"$error":"#REF!"},{"$error":"#REF!"},{"$error":"#REF!"},{"$error":"#REF!"},{"$error":"#REF!"},{"$error":"#REF!"}]
["Капуста свежая",{"$f":"'1 неделя'!#REF!+'2 неделя'!F37","v":{"$error":"#REF!"}},{"v":25,"d":"25.0"},{"$error":"#REF!"},{"$error":"#REF!"},{"$error":"#REF!"},{"$error":"#REF!"},{"$error":"#REF!"},{"$error":"#REF!"},{"$error":"#REF!"},{"$error":"#REF!"},{"$error":"#REF!"},{"$error":"#REF!"},{"$error":"#REF!"},{"$error":"#REF!"},{"$error":"#REF!"},{"$error":"#REF!"},{"$error":"#REF!"},{"$error":"#REF!"},{"$error":"#REF!"},{"$error":"#REF!"},{"$error":"#REF!"},{"$error":"#REF!"},{"$error":"#REF!"},{"$error":"#REF!"},{"$error":"#REF!"},{"$error":"#REF!"},{"$error":"#REF!"},{"$error":"#REF!"},{"$error":"#REF!"},{"$error":"#REF!"},{"$error":"#REF!"},{"$error":"#REF!"},{"$error":"#REF!"},{"$error":"#REF!"},{"$error":"#REF!"},{"$error":"#REF!"},{"$error":"#REF!"},{"$error":"#REF!"}]
["Огурец свежий",{"$f":"'1 неделя'!#REF!+'1 неделя'!#REF!+'2 неделя'!#REF!","v":{"$error":"#REF!"}},{"v":100,"d":"100.0"},{"$error":"#REF!"},{"$error":"#REF!"},{"$error":"#REF!"},{"$error":"#REF!"},{"$error":"#REF!"},{"$error":"#REF!"},{"$error":"#REF!"},{"$error":"#REF!"},{"$error":"#REF!"},{"$error":"#REF!"},{"$error":"#REF!"},{"$error":"#REF!"},{"$error":"#REF!"},{"$error":"#REF!"},{"$error":"#REF!"},{"$error":"#REF!"},{"$error":"#REF!"},{"$error":"#REF!"},{"$error":"#REF!"},{"$error":"#REF!"},{"$error":"#REF!"},{"$error":"#REF!"},{"$error":"#REF!"},{"$error":"#REF!"},{"$error":"#REF!"},{"$error":"#REF!"},{"$error":"#REF!"},{"$error":"#REF!"},{"$error":"#REF!"},{"$error":"#REF!"},{"$error":"#REF!"},{"$error":"#REF!"},{"$error":"#REF!"},{"$error":"#REF!"},{"$error":"#REF!"},{"$error":"#REF!"}]
["Помидор",{"$f":"'1 неделя'!#REF!+'1 неделя'!#REF!+'2 неделя'!#REF!","v":{"$error":"#REF!"}},{"v":130,"d":"130.0"},{"$error":"#REF!"},{"$error":"#REF!"},{"$error":"#REF!"},{"$error":"#REF!"},{"$error":"#REF!"},{"$error":"#REF!"},{"$error":"#REF!"},{"$error":"#REF!"},{"$error":"#REF!"},{"$error":"#REF!"},{"$error":"#REF!"},{"$error":"#REF!"},{"$error":"#REF!"},{"$error":"#REF!"},{"$error":"#REF!"},{"$error":"#REF!"},{"$error":"#REF!"},{"$error":"#REF!"},{"$error":"#REF!"},{"$error":"#REF!"},{"$error":"#REF!"},{"$error":"#REF!"},{"$error":"#REF!"},{"$error":"#REF!"},{"$error":"#REF!"},{"$error":"#REF!"},{"$error":"#REF!"},{"$error":"#REF!"},{"$error":"#REF!"},{"$error":"#REF!"},{"$error":"#REF!"},{"$error":"#REF!"},{"$error":"#REF!"},{"$error":"#REF!"},{"$error":"#REF!"},{"$error":"#REF!"}]
["Говядина (котлетное мясо)",{"$f":"'1 неделя'!F10+'1 неделя'!F50+'2 неделя'!F6+'2 неделя'!F80+'1 неделя'!F113","v":{"v":0,"d":"0.0"}},{"v":440,"d":"440.0"},{"v":0,"d":"0.00"},{"v":0,"d":"0.00"},{"v":0,"d":"0.00"},{"v":0,"d":"0.00"},{"v":0,"d":"0.00"},{"v":0,"d":"0.00"},{"v":0,"d":"0.00"},{"v":0,"d":"0.00"},{"v":0,"d":"0.00"},{"v":0,"d":"0.00"},{"v":0,"d":"0.00"},{"v":0,"d":"0.00"},{"v":0,"d":"0.00"},{"v":0,"d":"0.00"},{"v":0,"d":"0.00"},{"v":0,"d":"0.00"},{"v":0,"d":"0.00"},{"v":0,"d":"0.00"},{"v":0,"d":"0.00"},{"v":0,"d":"0.00"},{"v":0,"d":"0.00"},{"v":0,"d":"0.00"},{"v":0,"d":"0.00"},{"v":0,"d":"0.00"},{"v":0,"d":"0.00"},{"v":0,"d":"0.00"},{"v":0,"d":"0.00"},{"v":0,"d":"0.00"},{"v":0,"d":"0.00"},{"v":0,"d":"0.00"},{"v":0,"d":"0.00"},{"v":0,"d":"0.00"},{"v":0,"d":"0.00"},{"v":0,"d":"0.00"},{"v":0,"d":"0.0"},{"v":0,"d":"0.0"}]
["Сосиски",{"$f":"'2 неделя'!G6","v":{"v":0,"d":"0.0"}},{"v":380,"d":"380.0"},{"$f":"B16/1469*38","v":{"v":0,"d":"0.00"}},{"$f":"B16/1469*140","v":{"v":0,"d":"0.00"}},{"$f":"B16/1469*229","v":{"v":0,"d":"0.00"}},{"$f":"B16/1469*189","v":{"v":0,"d":"0.00"}},{"$f":"B16/1469*180","v":{"v":0,"d":"0.00"}},{"$f":"B16/1469*267","v":{"v":0,"d":"0.00"}},{"$f":"B16/1469*162","v":{"v":0,"d":"0.00"}},{"$f":"B16/1469*1","v":{"v":0,"d":"0.00"}},{"$f":"B16/1469*3","v":{"v":0,"d":"0.00"}},{"$f":"B16/1469*9","v":{"v":0,"d":"0.00"}},{"$f":"B16/1469*1","v":{"v":0,"d":"0.00"}},{"$f":"B16/1469*3","v":{"v":0,"d":"0.00"}},{"$f":"B16/1469*8","v":{"v":0,"d":"0.00"}},{"$f":"B16/1469*10","v":{"v":0,"d":"0.00"}},{"$f":"B16/1469*8","v":{"v":0,"d":"0.00"}},{"$f":"B16/1469*8","v":{"v":0,"d":"0.00"}},{"$f":"B16/1469*26","v":{"v":0,"d":"0.00"}},{"$f":"B16/1469*4","v":{"v":0,"d":"0.00"}},{"$f":"B16/1469*7","v":{"v":0,"d":"0.00"}},{"$f":"B16/1469*6","v":{"v":0,"d":"0.00"}},{"$f":"B16/1469*2","v":{"v":0,"d":"0.00"}},{"$f":"B16/1469*9","v":{"v":0,"d":"0.00"}},{"$f":"B16/1469*7","v":{"v":0,"d":"0.00"}},{"$f":"B16/1469*41","v":{"v":0,"d":"0.00"}},{"$f":"B16/1469*8","v":{"v":0,"d":"0.00"}},{"$f":"B16/1469*3","v":{"v":0,"d":"0.00"}},{"$f":"B16/1469*3","v":{"v":0,"d":"0.00"}},{"$f":"B16/1469*1","v":{"v":0,"d":"0.00"}},{"$f":"B16/1469*24","v":{"v":0,"d":"0.00"}},{"$f":"B16/1469*7","v":{"v":0,"d":"0.00"}},{"$f":"B16/1469*18","v":{"v":0,"d":"0.00"}},{"$f":"B16/1469*5","v":{"v":0,"d":"0.00"}},{"$f":"B16/1469*14","v":{"v":0,"d":"0.00"}},{"$f":"B16/1469*5","v":{"v":0,"d":"0.00"}},{"$f":"B16/1469*8","v":{"v":0,"d":"0.0"}},{"$f":"B16/1469*15","v":{"v":0,"d":"0.0"}}]
["Грудка куриная",{"$f":"'1 неделя'!F33+'1 неделя'!F91+'2 неделя'!F20+'2 неделя'!F61+'2 неделя'!F98","v":{"v":0,"d":"0.0"}},{"v":270,"d":"270.0"},{"v":0,"d":"0.00"},{"v":0,"d":"0.00"},{"v":0,"d":"0.00"},{"v":0,"d":"0.00"},{"v":0,"d":"0.00"},{"v":0,"d":"0.00"},{"v":0,"d":"0.00"},{"v":0,"d":"0.00"},{"v":0,"d":"0.00"},{"v":0,"d":"0.00"},{"v":0,"d":"0.00"},{"v":0,"d":"0.00"},{"v":0,"d":"0.00"},{"v":0,"d":"0.00"},{"v":0,"d":"0.00"},{"v":0,"d":"0.00"},{"v":0,"d":"0.00"},{"v":0,"d":"0.00"},{"v":0,"d":"0.00"},{"v":0,"d":"0.00"},{"v":0,"d":"0.00"},{"v":0,"d":"0.00"},{"v":0,"d":"0.00"},{"v":0,"d":"0.00"},{"v":0,"d":"0.00"},{"v":0,"d":"0.00"},{"v":0,"d":"0.00"},{"v":0,"d":"0.00"},{"v":0,"d":"0.00"},{"v":0,"d":"0.00"},{"v":0,"d":"0.00"},{"v":0,"d":"0.00"},{"v":0,"d":"0.00"},{"v":0,"d":"0.00"},{"v":0,"d":"0.0"},{"v":0,"d":"0.0"}]
["Котлеты из рыбы",{"$f":"'1 неделя'!F74+'2 неделя'!F43","v":{"v":0,"d":"0.0"}},{"v":325,"d":"325.0"},{"v":0,"d":"0.00"},{"v":0,"d":"0.00"},{"v":0,"d":"0.00"},{"v":0,"d":"0.00"},{"v":0,"d":"0.00"},{"v":0,"d":"0.00"},{"v":0,"d":"0.00"},{"v":0,"d":"0.00"},{"v":0,"d":"0.00"},{"v":0,"d":"0.00"},{"v":0,"d":"0.00"},{"v":0,"d":"0.00"},{"v":0,"d":"0.00"},{"v":0,"d":"0.00"},{"v":0,"d":"0.00"},{"v":0,"d":"0.00"},{"v":0,"d":"0.00"},{"v":0,"d":"0.00"},{"v":0,"d":"0.00"},{"v":0,"d":"0.00"},{"v":0,"d":"0.00"},{"v":0,"d":"0.00"},{"v":0,"d":"0.00"},{"v":0,"d":"0.00"},{"v":0,"d":"0.00"},{"v":0,"d":"0.00"},{"v":0,"d":"0.00"},{"v":0,"d":"0.00"},{"v":0,"d":"0.00"},{"v":0,"d":"0.00"},{"v":0,"d":"0.00"},{"v":0,"d":"0.00"},{"v":0,"d":"0.00"},{"v":0,"d":"0.00"},{"v":0,"d":"0.0"},{"v":0,"d":"0.0"}]
["Гречка",{"$f":"'1 неделя'!F18+'2 неделя'!F8","v":{"v":0,"d":"0.0"}},{"v":100,"d":"100.0"},{"v":0,"d":"0.00"},{"v":0,"d":"0.00"},{"v":0,"d":"0.00"},{"v":0,"d":"0.00"},{"v":0,"d":"0.00"},{"v":0,"d":"0.00"},{"v":0,"d":"0.00"},{"v":0,"d":"0.00"},{"v":0,"d":"0.00"},{"v":0,"d":"0.00"},{"v":0,"d":"0.00"},{"v":0,"d":"0.00"},{"v":0,"d":"0.00"},{"v":0,"d":"0.00"},{"v":0,"d":"0.00"},{"v":0,"d":"0.00"},{"v":0,"d":"0.00"},{"v":0,"d":"0.00"},{"v":0,"d":"0.00"},{"v":0,"d":"0.00"},{"v":0,"d":"0.00"},{"v":0,"d":"0.00"},{"v":0,"d":"0.00"},{"v":0,"d":"0.00"},{"v":0,"d":"0.00"},{"v":0,"d":"0.00"},{"v":0,"d":"0.00"},{"v":0,"d":"0.00"},{"v":0,"d":"0.00"},{"v":0,"d":"0.00"},{"v":0,"d":"0.00"},{"v":0,"d":"0.00"},{"v":0,"d":"0.00"},{"v":0,"d":"0.00"},{"v":0,"d":"0.0"},{"v":0,"d":"0.0"}]
["Рис",{"$f":"'1 неделя'!F99+'2 неделя'!F25+'2 неделя'!#REF!","v":{"$error":"#REF!"}},{"v":90,"d":"90.0"},{"$error":"#REF!"},{"$error":"#REF!"},{"$error":"#REF!"},{"$error":"#REF!"},{"$error":"#REF!"},{"$error":"#REF!"},{"$error":"#REF!"},{"$error":"#REF!"},{"$error":"#REF!"},{"$error":"#REF!"},{"$error":"#REF!"},{"$error":"#REF!"},{"$error":"#REF!"},{"$error":"#REF!"},{"$error":"#REF!"},{"$error":"#REF!"},{"$error":"#REF!"},{"$error":"#REF!"},{"$error":"#REF!"},{"$error":"#REF!"},{"$error":"#REF!"},{"$error":"#REF!"},{"$error":"#REF!"},{"$error":"#REF!"},{"$error":"#REF!"},{"$error":"#REF!"},{"$error":"#REF!"},{"$error":"#REF!"},{"$error":"#REF!"},{"$error":"#REF!"},{"$error":"#REF!"},{"$error":"#REF!"},{"$error":"#REF!"},{"$error":"#REF!"},{"$error":"#REF!"},{"$error":"#REF!"}]
["Макароны",{"$f":"'1 неделя'!F58+'2 неделя'!F66+'1 неделя'!F121","v":{"v":0,"d":"0.0"}},{"v":50,"d":"50.0"},{"v":0,"d":"0.00"},{"v":0,"d":"0.00"},{"v":0,"d":"0.00"},{"v":0,"d":"0.00"},{"v":0,"d":"0.00"},{"v":0,"d":"0.00"},{"v":0,"d":"0.00"},{"v":0,"d":"0.00"},{"v":0,"d":"0.00"},{"v":0,"d":"0.00"},{"v":0,"d":"0.00"},{"v":0,"d":"0.00"},{"v":0,"d":"0.00"},{"v":0,"d":"0.00"},{"v":0,"d":"0.00"},{"v":0,"d":"0.00"},{"v":0,"d":"0.00"},{"v":0,"d":"0.00"},{"v":0,"d":"0.00"},{"v":0,"d":"0.00"},{"v":0,"d":"0.00"},{"v":0,"d":"0.00"},{"v":0,"d":"0.00"},{"v":0,"d":"0.00"},{"v":0,"d":"0.00"},{"v":0,"d":"0.00"},{"v":0,"d":"0.00"},{"v":0,"d":"0.00"},{"v":0,"d":"0.00"},{"v":0,"d":"0.00"},{"v":0,"d":"0.00"},{"v":0,"d":"0.00"},{"v":0,"d":"0.00"},{"v":0,"d":"0.00"},{"v":0,"d":"0.0"},{"v":0,"d":"0.0"}]
["Сахар",{"$f":"'1 неделя'!F23+'1 неделя'!F42+'1 неделя'!#REF!+'1 неделя'!F63+'1 неделя'!F72+'1 неделя'!F82+'1 неделя'!F104+'1 неделя'!F126+'2 неделя'!F12+'2 неделя'!F29+'2 неделя'!F39+'2 неделя'!F51+'2 неделя'!F59+'2 неделя'!F71+'2 неделя'!F89+'2 неделя'!F106","v":{"$error":"#REF!"}},{"v":80,"d":"80.0"},{"$error":"#REF!"},{"$error":"#REF!"},{"$error":"#REF!"},{"$error":"#REF!"},{"$error":"#REF!"},{"$error":"#REF!"},{"$error":"#REF!"},{"$error":"#REF!"},{"$error":"#REF!"},{"$error":"#REF!"},{"$error":"#REF!"},{"$error":"#REF!"},{"$error":"#REF!"},{"$error":"#REF!"},{"$error":"#REF!"},{"$error":"#REF!"},{"$error":"#REF!"},{"$error":"#REF!"},{"$error":"#REF!"},{"$error":"#REF!"},{"$error":"#REF!"},{"$error":"#REF!"},{"$error":"#REF!"},{"$error":"#REF!"},{"$error":"#REF!"},{"$error":"#REF!"},{"$error":"#REF!"},{"$error":"#REF!"},{"$error":"#REF!"},{"$error":"#REF!"},{"$error":"#REF!"},{"$error":"#REF!"},{"$error":"#REF!"},{"$error":"#REF!"},{"$error":"#REF!"},{"$error":"#REF!"}]
["Соль",{"$f":"'1 неделя'!F16+'1 неделя'!F20+'1 неделя'!F38+'1 неделя'!#REF!+'1 неделя'!F55+'1 неделя'!F60+'1 неделя'!F79+'1 неделя'!F97+'1 неделя'!F101+'2 неделя'!F9+'2 неделя'!F26+'2 неделя'!F40+'2 неделя'!F48+'2 неделя'!F68+'2 неделя'!#REF!+'2 неделя'!F86+'2 неделя'!#REF!+'1 неделя'!F119+'1 неделя'!F123","v":{"$error":"#REF!"}},{"v":16,"d":"16.0"},{"$error":"#REF!"},{"$error":"#REF!"},{"$error":"#REF!"},{"$error":"#REF!"},{"$error":"#REF!"},{"$error":"#REF!"},{"$error":"#REF!"},{"$error":"#REF!"},{"$error":"#REF!"},{"$error":"#REF!"},{"$error":"#REF!"},{"$error":"#REF!"},{"$error":"#REF!"},{"$error":"#REF!"},{"$error":"#REF!"},{"$error":"#REF!"},{"$error":"#REF!"},{"$error":"#REF!"},{"$error":"#REF!"},{"$error":"#REF!"},{"$error":"#REF!"},{"$error":"#REF!"},{"$error":"#REF!"},{"$error":"#REF!"},{"$error":"#REF!"},{"$error":"#REF!"},{"$error":"#REF!"},{"$error":"#REF!"},{"$error":"#REF!"},{"$error":"#REF!"},{"$error":"#REF!"},{"$error":"#REF!"},{"$error":"#REF!"},{"$error":"#REF!"},{"$error":"#REF!"},{"$error":"#REF!"}]
["Сухари панировочные",{"$f":"'1 неделя'!F13+'1 неделя'!F94+'2 неделя'!F101","v":{"v":0,"d":"0.0"}},{"v":100,"d":"100.0"},{"v":0,"d":"0.00"},{"v":0,"d":"0.00"},{"v":0,"d":"0.00"},{"v":0,"d":"0.00"},{"v":0,"d":"0.00"},{"v":0,"d":"0.00"},{"v":0,"d":"0.00"},{"v":0,"d":"0.00"},{"v":0,"d":"0.00"},{"v":0,"d":"0.00"},{"v":0,"d":"0.00"},{"v":0,"d":"0.00"},{"v":0,"d":"0.00"},{"v":0,"d":"0.00"},{"v":0,"d":"0.00"},{"v":0,"d":"0.00"},{"v":0,"d":"0.00"},{"v":0,"d":"0.00"},{"v":0,"d":"0.00"},{"v":0,"d":"0.00"},{"v":0,"d":"0.00"},{"v":0,"d":"0.00"},{"v":0,"d":"0.00"},{"v":0,"d":"0.00"},{"v":0,"d":"0.00"},{"v":0,"d":"0.00"},{"v":0,"d":"0.00"},{"v":0,"d":"0.00"},{"v":0,"d":"0.00"},{"v":0,"d":"0.00"},{"v":0,"d":"0.00"},{"v":0,"d":"0.00"},{"v":0,"d":"0.00"},{"v":0,"d":"0.00"},{"v":0,"d":"0.0"},{"v":0,"d":"0.0"}]
["Мука пшеничная",{"$f":"'1 неделя'!F54+'2 неделя'!F64+'1 неделя'!F118","v":{"v":0,"d":"0.0"}},{"v":40,"d":"40.0"},{"v":0,"d":"0.00"},{"v":0,"d":"0.00"},{"v":0,"d":"0.00"},{"v":0,"d":"0.00"},{"v":0,"d":"0.00"},{"v":0,"d":"0.00"},{"v":0,"d":"0.00"},{"v":0,"d":"0.00"},{"v":0,"d":"0.00"},{"v":0,"d":"0.00"},{"v":0,"d":"0.00"},{"v":0,"d":"0.00"},{"v":0,"d":"0.00"},{"v":0,"d":"0.00"},{"v":0,"d":"0.00"},{"v":0,"d":"0.00"},{"v":0,"d":"0.00"},{"v":0,"d":"0.00"},{"v":0,"d":"0.00"},{"v":0,"d":"0.00"},{"v":0,"d":"0.00"},{"v":0,"d":"0.00"},{"v":0,"d":"0.00"},{"v":0,"d":"0.00"},{"v":0,"d":"0.00"},{"v":0,"d":"0.00"},{"v":0,"d":"0.00"},{"v":0,"d":"0.00"},{"v":0,"d":"0.00"},{"v":0,"d":"0.00"},{"v":0,"d":"0.00"},{"v":0,"d":"0.00"},{"v":0,"d":"0.00"},{"v":0,"d":"0.00"},{"v":0,"d":"0.0"},{"v":0,"d":"0.0"}]
["Томатная паста",{"$f":"'1 неделя'!F36+'1 неделя'!F53+'2 неделя'!F24+'1 неделя'!F117","v":{"v":0,"d":"0.0"}},{"v":175,"d":"175.0"},{"v":0,"d":"0.00"},{"v":0,"d":"0.00"},{"v":0,"d":"0.00"},{"v":0,"d":"0.00"},{"v":0,"d":"0.00"},{"v":0,"d":"0.00"},{"v":0,"d":"0.00"},{"v":0,"d":"0.00"},{"v":0,"d":"0.00"},{"v":0,"d":"0.00"},{"v":0,"d":"0.00"},{"v":0,"d":"0.00"},{"v":0,"d":"0.00"},{"v":0,"d":"0.00"},{"v":0,"d":"0.00"},{"v":0,"d":"0.00"},{"v":0,"d":"0.00"},{"v":0,"d":"0.00"},{"v":0,"d":"0.00"},{"v":0,"d":"0.00"},{"v":0,"d":"0.00"},{"v":0,"d":"0.00"},{"v":0,"d":"0.00"},{"v":0,"d":"0.00"},{"v":0,"d":"0.00"},{"v":0,"d":"0.00"},{"v":0,"d":"0.00"},{"v":0,"d":"0.00"},{"v":0,"d":"0.00"},{"v":0,"d":"0.00"},{"v":0,"d":"0.00"},{"v":0,"d":"0.00"},{"v":0,"d":"0.00"},{"v":0,"d":"0.00"},{"v":0,"d":"0.0"},{"v":0,"d":"0.0"}]
["Масло растительное",{"$f":"'1 неделя'!F14+'1 неделя'!F37+'1 неделя'!#REF!+'1 неделя'!F51+'1 неделя'!F71+'1 неделя'!F95+'1 неделя'!#REF!+'2 неделя'!F21+'2 неделя'!F41+'2 неделя'!F58+'2 неделя'!F62+'2 неделя'!#REF!+'2 неделя'!F81+'2 неделя'!#REF!+'2 неделя'!F102+'1 неделя'!F116","v":{"$error":"#REF!"}},{"v":140,"d":"140.0"},{"$error":"#REF!"},{"$error":"#REF!"},{"$error":"#REF!"},{"$error":"#REF!"},{"$error":"#REF!"},{"$error":"#REF!"},{"$error":"#REF!"},{"$error":"#REF!"},{"$error":"#REF!"},{"$error":"#REF!"},{"$error":"#REF!"},{"$error":"#REF!"},{"$error":"#REF!"},{"$error":"#REF!"},{"$error":"#REF!"},{"$error":"#REF!"},{"$error":"#REF!"},{"$error":"#REF!"},{"$error":"#REF!"},{"$error":"#REF!"},{"$error":"#REF!"},{"$error":"#REF!"},{"$error":"#REF!"},{"$error":"#REF!"},{"$error":"#REF!"},{"$error":"#REF!"},{"$error":"#REF!"},{"$error":"#REF!"},{"$error":"#REF!"},{"$error":"#REF!"},{"$error":"#REF!"},{"$error":"#REF!"},{"$error":"#REF!"},{"$error":"#REF!"},{"$error":"#REF!"},{"$error":"#REF!"}]
["Масло сливочное",{"$f":"'1 неделя'!F15+'1 неделя'!F59+'1 неделя'!F78+'1 неделя'!F96+'1 неделя'!F100+'1 неделя'!F123+'2 неделя'!F82+'2 неделя'!F103+'2 неделя'!#REF!+'1 неделя'!F122","v":{"$error":"#REF!"}},{"v":625,"d":"625.0"},{"$error":"#REF!"},{"$error":"#REF!"},{"$error":"#REF!"},{"$error":"#REF!"},{"$error":"#REF!"},{"$error":"#REF!"},{"$error":"#REF!"},{"$error":"#REF!"},{"$error":"#REF!"},{"$error":"#REF!"},{"$error":"#REF!"},{"$error":"#REF!"},{"$error":"#REF!"},{"$error":"#REF!"},{"$error":"#REF!"},{"$error":"#REF!"},{"$error":"#REF!"},{"$error":"#REF!"},{"$error":"#REF!"},{"$error":"#REF!"},{"$error":"#REF!"},{"$error":"#REF!"},{"$error":"#REF!"},{"$error":"#REF!"},{"$error":"#REF!"},{"$error":"#REF!"},{"$error":"#REF!"},{"$error":"#REF!"},{"$error":"#REF!"},{"$error":"#REF!"},{"$error":"#REF!"},{"$error":"#REF!"},{"$error":"#REF!"},{"$error":"#REF!"},{"$error":"#REF!"},{"$error":"#REF!"}]
["Молоко",{"$f":"'1 неделя'!F12+'1 неделя'!F24+'1 неделя'!F43+'1 неделя'!F77+'1 неделя'!F83+'1 неделя'!F93+'2 неделя'!F13+'2 неделя'!F46+'2 неделя'!F72+'2 неделя'!F100","v":{"v":0,"d":"0.0"}},{"v":65,"d":"65.0"},{"v":0,"d":"0.00"},{"v":0,"d":"0.00"},{"v":0,"d":"0.00"},{"v":0,"d":"0.00"},{"v":0,"d":"0.00"},{"v":0,"d":"0.00"},{"v":0,"d":"0.00"},{"v":0,"d":"0.00"},{"v":0,"d":"0.00"},{"v":0,"d":"0.00"},{"v":0,"d":"0.00"},{"v":0,"d":"0.00"},{"v":0,"d":"0.00"},{"v":0,"d":"0.00"},{"v":0,"d":"0.00"},{"v":0,"d":"0.00"},{"v":0,"d":"0.00"},{"v":0,"d":"0.00"},{"v":0,"d":"0.00"},{"v":0,"d":"0.00"},{"v":0,"d":"0.00"},{"v":0,"d":"0.00"},{"v":0,"d":"0.00"},{"v":0,"d":"0.00"},{"v":0,"d":"0.00"},{"v":0,"d":"0.00"},{"v":0,"d":"0.00"},{"v":0,"d":"0.00"},{"v":0,"d":"0.00"},{"v":0,"d":"0.00"},{"v":0,"d":"0.00"},{"v":0,"d":"0.00"},{"v":0,"d":"0.00"},{"v":0,"d":"0.00"},{"v":0,"d":"0.0"},{"v":0,"d":"0.0"}]
["Сметана",{"$f":"'2 неделя'!F63","v":{"v":0,"d":"0.0"}},{"v":190,"d":"190.0"},{"v":0,"d":"0.00"},{"v":0,"d":"0.00"},{"v":0,"d":"0.00"},{"v":0,"d":"0.00"},{"v":0,"d":"0.00"},{"v":0,"d":"0.00"},{"v":0,"d":"0.00"},{"v":0,"d":"0.00"},{"v":0,"d":"0.00"},{"v":0,"d":"0.00"},{"v":0,"d":"0.00"},{"v":0,"d":"0.00"},{"v":0,"d":"0.00"},{"v":0,"d":"0.00"},{"v":0,"d":"0.00"},{"v":0,"d":"0.00"},{"v":0,"d":"0.00"},{"v":0,"d":"0.00"},{"v":0,"d":"0.00"},{"v":0,"d":"0.00"},{"v":0,"d":"0.00"},{"v":0,"d":"0.00"},{"v":0,"d":"0.00"},{"v":0,"d":"0.00"},{"v":0,"d":"0.00"},{"v":0,"d":"0.00"},{"v":0,"d":"0.00"},{"v":0,"d":"0.00"},{"v":0,"d":"0.00"},{"v":0,"d":"0.00"},{"v":0,"d":"0.00"},{"v":0,"d":"0.00"},{"v":0,"d":"0.00"},{"v":0,"d":"0.00"},{"v":0,"d":"0.0"},{"v":0,"d":"0.0"}]
["Чай",{"$f":"'1 неделя'!F62+'1 неделя'!F103+'1 неделя'!F125+'2 неделя'!F28+'2 неделя'!F50+'2 неделя'!F88+'2 неделя'!F105","v":{"v":0,"d":"0.0"}},{"v":688,"d":"688.0"},{"v":0,"d":"0.00"},{"v":0,"d":"0.00"},{"v":0,"d":"0.00"},{"v":0,"d":"0.00"},{"v":0,"d":"0.00"},{"v":0,"d":"0.00"},{"v":0,"d":"0.00"},{"v":0,"d":"0.00"},{"v":0,"d":"0.00"},{"v":0,"d":"0.00"},{"v":0,"d":"0.00"},{"v":0,"d":"0.00"},{"v":0,"d":"0.00"},{"v":0,"d":"0.00"},{"v":0,"d":"0.00"},{"v":0,"d":"0.00"},{"v":0,"d":"0.00"},{"v":0,"d":"0.00"},{"v":0,"d":"0.00"},{"v":0,"d":"0.00"},{"v":0,"d":"0.00"},{"v":0,"d":"0.00"},{"v":0,"d":"0.00"},{"v":0,"d":"0.00"},{"v":0,"d":"0.00"},{"v":0,"d":"0.00"},{"v":0,"d":"0.00"},{"v":0,"d":"0.00"},{"v":0,"d":"0.00"},{"v":0,"d":"0.00"},{"v":0,"d":"0.00"},{"v":0,"d":"0.00"},{"v":0,"d":"0.00"},{"v":0,"d":"0.00"},{"v":0,"d":"0.0"},{"v":0,"d":"0.0"}]
["Кофейный напиток",{"$f":"'1 неделя'!F41+'2 неделя'!F70","v":{"v":0,"d":"0.0"}},{"v":500,"d":"500.0"},{"v":0,"d":"0.00"},{"v":0,"d":"0.00"},{"v":0,"d":"0.00"},{"v":0,"d":"0.00"},{"v":0,"d":"0.00"},{"v":0,"d":"0.00"},{"v":0,"d":"0.00"},{"v":0,"d":"0.00"},{"v":0,"d":"0.00"},{"v":0,"d":"0.00"},{"v":0,"d":"0.00"},{"v":0,"d":"0.00"},{"v":0,"d":"0.00"},{"v":0,"d":"0.00"},{"v":0,"d":"0.00"},{"v":0,"d":"0.00"},{"v":0,"d":"0.00"},{"v":0,"d":"0.00"},{"v":0,"d":"0.00"},{"v":0,"d":"0.00"},{"v":0,"d":"0.00"},{"v":0,"d":"0.00"},{"v":0,"d":"0.00"},{"v":0,"d":"0.00"},{"v":0,"d":"0.00"},{"v":0,"d":"0.00"},{"v":0,"d":"0.00"},{"v":0,"d":"0.00"},{"v":0,"d":"0.00"},{"v":0,"d":"0.00"},{"v":0,"d":"0.00"},{"v":0,"d":"0.00"},{"v":0,"d":"0.00"},{"v":0,"d":"0.00"},{"v":0,"d":"0.0"},{"v":0,"d":"0.0"}]
["Какао порошок",{"$f":"'1 неделя'!F22+'1 неделя'!F81+'2 неделя'!F11","v":{"v":0,"d":"0.0"}},{"v":271,"d":"271.0"},{"v":0,"d":"0.00"},{"v":0,"d":"0.00"},{"v":0,"d":"0.00"},{"v":0,"d":"0.00"},{"v":0,"d":"0.00"},{"v":0,"d":"0.00"},{"v":0,"d":"0.00"},{"v":0,"d":"0.00"},{"v":0,"d":"0.00"},{"v":0,"d":"0.00"},{"v":0,"d":"0.00"},{"v":0,"d":"0.00"},{"v":0,"d":"0.00"},{"v":0,"d":"0.00"},{"v":0,"d":"0.00"},{"v":0,"d":"0.00"},{"v":0,"d":"0.00"},{"v":0,"d":"0.00"},{"v":0,"d":"0.00"},{"v":0,"d":"0.00"},{"v":0,"d":"0.00"},{"v":0,"d":"0.00"},{"v":0,"d":"0.00"},{"v":0,"d":"0.00"},{"v":0,"d":"0.00"},{"v":0,"d":"0.00"},{"v":0,"d":"0.00"},{"v":0,"d":"0.00"},{"v":0,"d":"0.00"},{"v":0,"d":"0.00"},{"v":0,"d":"0.00"},{"v":0,"d":"0.00"},{"v":0,"d":"0.00"},{"v":0,"d":"0.00"},{"v":0,"d":"0.0"},{"v":0,"d":"0.0"}]
["Хлеб пшеничный",{"$f":"'1 неделя'!F26+'1 неделя'!F45+'1 неделя'!F65+'1 неделя'!F84+'1 неделя'!F106+'1 неделя'!F128+'2 неделя'!F15+'2 неделя'!F32+'2 неделя'!F52+'2 неделя'!F73+'2 неделя'!F93+'2 неделя'!F107","v":{"v":0,"d":"0.0"}},{"v":60,"d":"60.0"},{"v":0,"d":"0.00"},{"v":0,"d":"0.00"},{"v":0,"d":"0.00"},{"v":0,"d":"0.00"},{"v":0,"d":"0.00"},{"v":0,"d":"0.00"},{"v":0,"d":"0.00"},{"v":0,"d":"0.00"},{"v":0,"d":"0.00"},{"v":0,"d":"0.00"},{"v":0,"d":"0.00"},{"v":0,"d":"0.00"},{"v":0,"d":"0.00"},{"v":0,"d":"0.00"},{"v":0,"d":"0.00"},{"v":0,"d":"0.00"},{"v":0,"d":"0.00"},{"v":0,"d":"0.00"},{"v":0,"d":"0.00"},{"v":0,"d":"0.00"},{"v":0,"d":"0.00"},{"v":0,"d":"0.00"},{"v":0,"d":"0.00"},{"v":0,"d":"0.00"},{"v":0,"d":"0.00"},{"v":0,"d":"0.00"},{"v":0,"d":"0.00"},{"v":0,"d":"0.00"},{"v":0,"d":"0.00"},{"v":0,"d":"0.00"},{"v":0,"d":"0.00"},{"v":0,"d":"0.00"},{"v":0,"d":"0.00"},{"v":0,"d":"0.00"},{"v":0,"d":"0.0"},{"v":0,"d":"0.0"}]
["Хлеб ржано-пшеничный",{"$f":"'1 неделя'!F27+'1 неделя'!F46+'1 неделя'!F66+'1 неделя'!F85+'1 неделя'!F107+'1 неделя'!F129+'2 неделя'!F16+'2 неделя'!F33+'2 неделя'!F53+'2 неделя'!F74+'2 неделя'!F94+'2 неделя'!F108","v":{"v":0,"d":"0.0"}},{"v":51,"d":"51.00"},{"v":0,"d":"0.00"},{"v":0,"d":"0.00"},{"v":0,"d":"0.00"},{"v":0,"d":"0.00"},{"v":0,"d":"0.00"},{"v":0,"d":"0.00"},{"v":0,"d":"0.00"},{"v":0,"d":"0.00"},{"v":0,"d":"0.00"},{"v":0,"d":"0.00"},{"v":0,"d":"0.00"},{"v":0,"d":"0.00"},{"v":0,"d":"0.00"},{"v":0,"d":"0.00"},{"v":0,"d":"0.00"},{"v":0,"d":"0.00"},{"v":0,"d":"0.00"},{"v":0,"d":"0.00"},{"v":0,"d":"0.00"},{"v":0,"d":"0.00"},{"v":0,"d":"0.00"},{"v":0,"d":"0.00"},{"v":0,"d":"0.00"},{"v":0,"d":"0.00"},{"v":0,"d":"0.00"},{"v":0,"d":"0.00"},{"v":0,"d":"0.00"},{"v":0,"d":"0.00"},{"v":0,"d":"0.00"},{"v":0,"d":"0.00"},{"v":0,"d":"0.00"},{"v":0,"d":"0.00"},{"v":0,"d":"0.00"},{"v":0,"d":"0.00"},{"v":0,"d":"0.0"},{"v":0,"d":"0.0"}]
[{"$nulls":10},{"$f":"H36/394*3","v":{"v":0,"d":"0.00"}},{"$f":"H36/394*5","v":{"v":0,"d":"0.00"}},{"$f":"H36/394*15","v":{"v":0,"d":"0.00"}},{"$f":"H36/394*4","v":{"v":0,"d":"0.00"}},{"$f":"H36/304*5","v":{"v":0,"d":"0.00"}},{"$f":"H36/304*12","v":{"v":0,"d":"0.00"}},{"$f":"H36/394*5","v":{"v":0,"d":"0.00"}},{"$f":"H36/394*5","v":{"v":0,"d":"0.00"}},{"$f":"H36/394*21","v":{"v":0,"d":"0.00"}},{"$f":"H36/394*31","v":{"v":0,"d":"0.00"}},{"$f":"H36/394*3","v":{"v":0,"d":"0.00"}},{"$f":"H36/394*13","v":{"v":0,"d":"0.00"}},{"$f":"H36/394*6","v":{"v":0,"d":"0.00"}},{"$f":"H36/394*7","v":{"v":0,"d":"0.00"}},{"$f":"H36/394*10","v":{"v":0,"d":"0.00"}},{"$f":"H36/394*16","v":{"v":0,"d":"0.00"}},{"$f":"H36/394*41","v":{"v":0,"d":"0.00"}},{"$f":"H36/394*12","v":{"v":0,"d":"0.00"}},{"$f":"H36/394*16","v":{"v":0,"d":"0.00"}},{"$f":"H36/394*5","v":{"v":0,"d":"0.00"}},{"$f":"H36/394*8","v":{"v":0,"d":"0.00"}},{"$f":"H36/394*31","v":{"v":0,"d":"0.00"}},{"$f":"H36/394*20","v":{"v":0,"d":"0.00"}},{"$f":"H36/394*15","v":{"v":0,"d":"0.00"}},{"$f":"H36/394*18","v":{"v":0,"d":"0.00"}},{"$f":"H36/394*19","v":{"v":0,"d":"0.00"}},{"$f":"H36/394*13","v":{"v":0,"d":"0.00"}},{"$f":"H36/394*8","v":{"v":0,"d":"0.0"}},{"$f":"H36/394*17","v":{"v":0,"d":"0.0"}}]
[{"$nulls":10},{"v":0,"d":"0.00"},{"v":0,"d":"0.00"},{"v":0,"d":"0.00"},{"v":0,"d":"0.00"},{"v":0,"d":"0.00"},{"v":0,"d":"0.00"},{"v":0,"d":"0.00"},{"v":0,"d":"0.00"},{"v":0,"d":"0.00"},{"v":0,"d":"0.00"},{"v":0,"d":"0.00"},{"v":0,"d":"0.00"},{"v":0,"d":"0.00"},{"v":0,"d":"0.00"},{"v":0,"d":"0.00"},{"v":0,"d":"0.00"},{"v":0,"d":"0.00"},{"v":0,"d":"0.00"},{"v":0,"d":"0.00"},{"v":0,"d":"0.00"},{"v":0,"d":"0.00"},{"v":0,"d":"0.00"},{"v":0,"d":"0.00"},{"v":0,"d":"0.00"},{"v":0,"d":"0.00"},{"v":0,"d":"0.00"},{"v":0,"d":"0.00"},{"v":0,"d":"0.0"},{"v":0,"d":"0.0"}]
[{"$nulls":10},{"v":0,"d":"0.00"},{"v":0,"d":"0.00"},{"v":0,"d":"0.00"},{"v":0,"d":"0.00"},{"v":0,"d":"0.00"},{"v":0,"d":"0.00"},{"v":0,"d":"0.00"},{"v":0,"d":"0.00"},{"v":0,"d":"0.00"},{"v":0,"d":"0.00"},{"v":0,"d":"0.00"},{"v":0,"d":"0.00"},{"v":0,"d":"0.00"},{"v":0,"d":"0.00"},{"v":0,"d":"0.00"},{"v":0,"d":"0.00"},{"v":0,"d":"0.00"},{"v":0,"d":"0.00"},{"v":0,"d":"0.00"},{"v":0,"d":"0.00"},{"v":0,"d":"0.00"},{"v":0,"d":"0.00"},{"v":0,"d":"0.00"},{"v":0,"d":"0.00"},{"v":0,"d":"0.00"},{"v":0,"d":"0.00"},{"v":0,"d":"0.00"},{"v":0,"d":"0.0"},{"v":0,"d":"0.0"}]